BEGIN:VCALENDAR
VERSION:2.0
PRODID:-//Ville de L&#039;Union - ECPv6.15.13//NONSGML v1.0//EN
CALSCALE:GREGORIAN
METHOD:PUBLISH
X-WR-CALNAME:Ville de L&#039;Union
X-ORIGINAL-URL:https://www.ville-lunion.fr
X-WR-CALDESC:Évènements pour Ville de L&#039;Union
REFRESH-INTERVAL;VALUE=DURATION:PT1H
X-Robots-Tag:noindex
X-PUBLISHED-TTL:PT1H
BEGIN:VTIMEZONE
TZID:Europe/Paris
BEGIN:DAYLIGHT
TZOFFSETFROM:+0100
TZOFFSETTO:+0200
TZNAME:CEST
DTSTART:20170326T010000
END:DAYLIGHT
BEGIN:STANDARD
TZOFFSETFROM:+0200
TZOFFSETTO:+0100
TZNAME:CET
DTSTART:20171029T010000
END:STANDARD
BEGIN:DAYLIGHT
TZOFFSETFROM:+0100
TZOFFSETTO:+0200
TZNAME:CEST
DTSTART:20180325T010000
END:DAYLIGHT
BEGIN:STANDARD
TZOFFSETFROM:+0200
TZOFFSETTO:+0100
TZNAME:CET
DTSTART:20181028T010000
END:STANDARD
BEGIN:DAYLIGHT
TZOFFSETFROM:+0100
TZOFFSETTO:+0200
TZNAME:CEST
DTSTART:20190331T010000
END:DAYLIGHT
BEGIN:STANDARD
TZOFFSETFROM:+0200
TZOFFSETTO:+0100
TZNAME:CET
DTSTART:20191027T010000
END:STANDARD
END:VTIMEZONE
BEGIN:VEVENT
DTSTART;TZID=Europe/Paris:20180115T203000
DTEND;TZID=Europe/Paris:20180115T203000
DTSTAMP:20260424T021225
CREATED:20171226T171445Z
LAST-MODIFIED:20180110T101410Z
UID:34638-1516048200-1516048200@www.ville-lunion.fr
SUMMARY:Ciné-débat : BIENVENUS !
DESCRIPTION:Le CCFD-TERRE SOLIDAIRE vous propose dans le cadre du Festival Cinéma et Droits de l’Homme : BIENVENUS ! De Rune Denstad Langlo 1h 30min – 2016 –\nnorvégien\, suédois –\nComment rentabiliser un hôtel délabré\, et paumé au milieu de nulle part ? En le transformant en centre d’accueil pour réfugiés\, pour empocher les subventions. Magouilleur\,\nrâleur\, vaguement raciste\, l’antihéros de cette attachante comédie va pourtant trouver une autre richesse au contact de ses hôtes.\nUne comédie intelligente et tendre sur la tolérance \nCiné-débat : accueillir les migrants.\nA l’issue de la projection\, le débat portera sur l’accueil des migrants\, avec des témoignages d’associations engagées. \n 
URL:https://www.ville-lunion.fr/evenement/cine-debat-bienvenus/
LOCATION:Le Lumière\, 6 Rue du Pic du Midi\, L'Union\, 31240\, France
CATEGORIES:Associations
ATTACH;FMTTYPE=image/jpeg:https://www.ville-lunion.fr/wp-content/uploads/2017/12/bienvenus.jpg
END:VEVENT
END:VCALENDAR