BEGIN:VCALENDAR
VERSION:2.0
PRODID:-//Ville de L&#039;Union - ECPv6.15.13//NONSGML v1.0//EN
CALSCALE:GREGORIAN
METHOD:PUBLISH
X-ORIGINAL-URL:https://www.ville-lunion.fr
X-WR-CALDESC:Évènements pour Ville de L&#039;Union
REFRESH-INTERVAL;VALUE=DURATION:PT1H
X-Robots-Tag:noindex
X-PUBLISHED-TTL:PT1H
BEGIN:VTIMEZONE
TZID:Europe/Paris
BEGIN:DAYLIGHT
TZOFFSETFROM:+0100
TZOFFSETTO:+0200
TZNAME:CEST
DTSTART:20160327T010000
END:DAYLIGHT
BEGIN:STANDARD
TZOFFSETFROM:+0200
TZOFFSETTO:+0100
TZNAME:CET
DTSTART:20161030T010000
END:STANDARD
BEGIN:DAYLIGHT
TZOFFSETFROM:+0100
TZOFFSETTO:+0200
TZNAME:CEST
DTSTART:20170326T010000
END:DAYLIGHT
BEGIN:STANDARD
TZOFFSETFROM:+0200
TZOFFSETTO:+0100
TZNAME:CET
DTSTART:20171029T010000
END:STANDARD
BEGIN:DAYLIGHT
TZOFFSETFROM:+0100
TZOFFSETTO:+0200
TZNAME:CEST
DTSTART:20180325T010000
END:DAYLIGHT
BEGIN:STANDARD
TZOFFSETFROM:+0200
TZOFFSETTO:+0100
TZNAME:CET
DTSTART:20181028T010000
END:STANDARD
END:VTIMEZONE
BEGIN:VEVENT
DTSTART;VALUE=DATE:20171109
DTEND;VALUE=DATE:20171126
DTSTAMP:20260424T045031
CREATED:20170929T131741Z
LAST-MODIFIED:20170929T131741Z
UID:34072-1510185600-1511654399@www.ville-lunion.fr
SUMMARY:Exposition des Arts Plastiques
DESCRIPTION:vernissage le jeudi 9 à 18h30
URL:https://www.ville-lunion.fr/evenement/exposition-arts-plastiques-2/
LOCATION:Bibliothèque de L’Union\, 6 Avenue de Toulouse\, 31240
CATEGORIES:Associations
ATTACH;FMTTYPE=image/jpeg:https://www.ville-lunion.fr/wp-content/uploads/2017/09/aapu1.jpg
END:VEVENT
BEGIN:VEVENT
DTSTART;TZID=Europe/Paris:20171109T100000
DTEND;TZID=Europe/Paris:20171109T103000
DTSTAMP:20260424T045031
CREATED:20170929T131044Z
LAST-MODIFIED:20170929T131044Z
UID:34069-1510221600-1510223400@www.ville-lunion.fr
SUMMARY:Conférence Histoire de l’Art
DESCRIPTION:Sculpteur Bourdelle \nproposé par l’AAPU à l’auditorium de la salle des fêtes. \nOuvert à tous\, 8 euros pour les non-inscrits à l’histoire de l’Art.
URL:https://www.ville-lunion.fr/evenement/conference-histoire-de-lart-2/
CATEGORIES:Associations
ATTACH;FMTTYPE=image/jpeg:https://www.ville-lunion.fr/wp-content/uploads/2017/09/bourdelle.jpg
END:VEVENT
BEGIN:VEVENT
DTSTART;TZID=Europe/Paris:20171109T140000
DTEND;TZID=Europe/Paris:20171109T140000
DTSTAMP:20260424T045031
CREATED:20171024T124800Z
LAST-MODIFIED:20171024T124853Z
UID:34164-1510236000-1510236000@www.ville-lunion.fr
SUMMARY:CONFÉRENCE PRÉVENTION PAR L’ACTIVITÉ PHYSIQUE
DESCRIPTION:Suite au fort succès du printemps dernier\, le CCAS et la Mairie de L’Union ont souhaité renouveler le partenariat avec l’Association SIEL BLEU pour reconduire des séances gratuites d’activité physique adaptée pour ceux qui n’on pas encore pu bénéficier de ce dispositif.\nPour qui ? Pour les personnes de 60 ans et plus résidant sur la commune\nPourquoi ? Pour faire découvrir les bienfaits de l’activité physique adaptée dans le but :\n• D’améliorer ses capacités physiques\, ses gestes du quotidien.\n• De maintenir une qualité de vie\n• De poursuivre une activité physique dans le temps \nA l’issue de cette conférence vous aurez la possibilité de vous inscrire à 1 programme de votre choix.\n• 2 ateliers à domicile (activité physique adapté et nutrition)\n• 20 séances collectives d’activités physiques adaptées à la Maison des sports à partir du 13 Novembre 2017\nVous serez encadré par des éducateurs sportifs diplômés pour y pratiquer de la gym douce\, parcourt cardio trainning\, aquagym\,\nbalnéo\, gestion du stress\, jeux d’adresse……
URL:https://www.ville-lunion.fr/evenement/conference-prevention-lactivite-physique/
LOCATION:Salle de la convivialité de la Belle Hôtesse\, 2 rue de l'Autan Blanc\, L'union\, 31240
CATEGORIES:Mairie
ATTACH;FMTTYPE=image/jpeg:https://www.ville-lunion.fr/wp-content/uploads/2017/10/siel-bleu.jpg
END:VEVENT
END:VCALENDAR