BEGIN:VCALENDAR
VERSION:2.0
PRODID:-//Ville de L&#039;Union - ECPv6.15.13//NONSGML v1.0//EN
CALSCALE:GREGORIAN
METHOD:PUBLISH
X-ORIGINAL-URL:https://www.ville-lunion.fr
X-WR-CALDESC:Évènements pour Ville de L&#039;Union
REFRESH-INTERVAL;VALUE=DURATION:PT1H
X-Robots-Tag:noindex
X-PUBLISHED-TTL:PT1H
BEGIN:VTIMEZONE
TZID:Europe/Paris
BEGIN:DAYLIGHT
TZOFFSETFROM:+0100
TZOFFSETTO:+0200
TZNAME:CEST
DTSTART:20160327T010000
END:DAYLIGHT
BEGIN:STANDARD
TZOFFSETFROM:+0200
TZOFFSETTO:+0100
TZNAME:CET
DTSTART:20161030T010000
END:STANDARD
BEGIN:DAYLIGHT
TZOFFSETFROM:+0100
TZOFFSETTO:+0200
TZNAME:CEST
DTSTART:20170326T010000
END:DAYLIGHT
BEGIN:STANDARD
TZOFFSETFROM:+0200
TZOFFSETTO:+0100
TZNAME:CET
DTSTART:20171029T010000
END:STANDARD
BEGIN:DAYLIGHT
TZOFFSETFROM:+0100
TZOFFSETTO:+0200
TZNAME:CEST
DTSTART:20180325T010000
END:DAYLIGHT
BEGIN:STANDARD
TZOFFSETFROM:+0200
TZOFFSETTO:+0100
TZNAME:CET
DTSTART:20181028T010000
END:STANDARD
END:VTIMEZONE
BEGIN:VEVENT
DTSTART;TZID=Europe/Paris:20170923T203000
DTEND;TZID=Europe/Paris:20170923T203000
DTSTAMP:20260424T073151
CREATED:20170522T151703Z
LAST-MODIFIED:20170919T120249Z
UID:32582-1506198600-1506198600@www.ville-lunion.fr
SUMMARY:So Groovy en concert
DESCRIPTION:So Groovy vous offre une cure d’énergie positive. Transpirez au son des compositions riches et variées\, voyagez au travers des différentes formes du groove. \n8 musiciens aux lives détonants. \nBillets en vente en mairie et sur place le soir du concert. \nTarifs\nNormal : 12 €\nRéduit : 6 € (enfants de – de 16 ans\, étudiants et demandeurs d’emploi)\nGratuit : -10 ans
URL:https://www.ville-lunion.fr/evenement/so-groovy-concert/
LOCATION:Salle des fêtes de L’Union\, 6 Avenue des Pyrénées\, L'Union\, 31240\, France
CATEGORIES:Spectacles
ATTACH;FMTTYPE=image/jpeg:https://www.ville-lunion.fr/wp-content/uploads/2017/05/affiche.jpg
ORGANIZER;CN="Mairie service Communication%2C Culture%2C Animation.":MAILTO:cca@mairie-lunion.fr
END:VEVENT
END:VCALENDAR