BEGIN:VCALENDAR
VERSION:2.0
PRODID:-//Ville de L&#039;Union - ECPv6.15.13//NONSGML v1.0//EN
CALSCALE:GREGORIAN
METHOD:PUBLISH
X-ORIGINAL-URL:https://www.ville-lunion.fr
X-WR-CALDESC:Évènements pour Ville de L&#039;Union
REFRESH-INTERVAL;VALUE=DURATION:PT1H
X-Robots-Tag:noindex
X-PUBLISHED-TTL:PT1H
BEGIN:VTIMEZONE
TZID:Europe/Paris
BEGIN:DAYLIGHT
TZOFFSETFROM:+0100
TZOFFSETTO:+0200
TZNAME:CEST
DTSTART:20160327T010000
END:DAYLIGHT
BEGIN:STANDARD
TZOFFSETFROM:+0200
TZOFFSETTO:+0100
TZNAME:CET
DTSTART:20161030T010000
END:STANDARD
BEGIN:DAYLIGHT
TZOFFSETFROM:+0100
TZOFFSETTO:+0200
TZNAME:CEST
DTSTART:20170326T010000
END:DAYLIGHT
BEGIN:STANDARD
TZOFFSETFROM:+0200
TZOFFSETTO:+0100
TZNAME:CET
DTSTART:20171029T010000
END:STANDARD
BEGIN:DAYLIGHT
TZOFFSETFROM:+0100
TZOFFSETTO:+0200
TZNAME:CEST
DTSTART:20180325T010000
END:DAYLIGHT
BEGIN:STANDARD
TZOFFSETFROM:+0200
TZOFFSETTO:+0100
TZNAME:CET
DTSTART:20181028T010000
END:STANDARD
END:VTIMEZONE
BEGIN:VEVENT
DTSTART;TZID=Europe/Paris:20170916T140000
DTEND;TZID=Europe/Paris:20170916T170000
DTSTAMP:20260424T073152
CREATED:20170816T093817Z
LAST-MODIFIED:20170816T095828Z
UID:33469-1505570400-1505581200@www.ville-lunion.fr
SUMMARY:Journées du Patrimoine
DESCRIPTION:Tu as entre 4 et 11 ans\, le chevalier de Belbeze t’invite à découvrir le patrimoine de L’Union en famille en participant à un jeu de piste le samedi 16 septembre 2017 \nDépart libre entre 14H et 17H depuis le parking de Belle hôtesse\, quizz\, énigme et devinette te seront remises à chaque étape.
URL:https://www.ville-lunion.fr/evenement/journees-du-patrimoine/
LOCATION:Salle de la convivialité de la Belle Hôtesse\, 2 rue de l'Autan Blanc\, L'union\, 31240
CATEGORIES:Mairie
ATTACH;FMTTYPE=image/jpeg:https://www.ville-lunion.fr/wp-content/uploads/2017/08/patrimoine.jpg
END:VEVENT
BEGIN:VEVENT
DTSTART;TZID=Europe/Paris:20170916T200000
DTEND;TZID=Europe/Paris:20170916T200000
DTSTAMP:20260424T073152
CREATED:20170807T142330Z
LAST-MODIFIED:20170807T142330Z
UID:33360-1505592000-1505592000@www.ville-lunion.fr
SUMMARY:Match exhibition volley - assis
DESCRIPTION:L’Union – CV Barcelona Barça \nEntrée gratuite
URL:https://www.ville-lunion.fr/evenement/match-exhibition-volley-assis/
LOCATION:Gymnase C300\, Rue du Puy de Sancy\, L'Union\, 31240
CATEGORIES:Associations
ATTACH;FMTTYPE=image/jpeg:https://www.ville-lunion.fr/wp-content/uploads/2017/08/volley.jpg
END:VEVENT
END:VCALENDAR