BEGIN:VCALENDAR
VERSION:2.0
PRODID:-//Ville de L&#039;Union - ECPv6.15.13//NONSGML v1.0//EN
CALSCALE:GREGORIAN
METHOD:PUBLISH
X-ORIGINAL-URL:https://www.ville-lunion.fr
X-WR-CALDESC:Évènements pour Ville de L&#039;Union
REFRESH-INTERVAL;VALUE=DURATION:PT1H
X-Robots-Tag:noindex
X-PUBLISHED-TTL:PT1H
BEGIN:VTIMEZONE
TZID:Europe/Paris
BEGIN:DAYLIGHT
TZOFFSETFROM:+0100
TZOFFSETTO:+0200
TZNAME:CEST
DTSTART:20160327T010000
END:DAYLIGHT
BEGIN:STANDARD
TZOFFSETFROM:+0200
TZOFFSETTO:+0100
TZNAME:CET
DTSTART:20161030T010000
END:STANDARD
BEGIN:DAYLIGHT
TZOFFSETFROM:+0100
TZOFFSETTO:+0200
TZNAME:CEST
DTSTART:20170326T010000
END:DAYLIGHT
BEGIN:STANDARD
TZOFFSETFROM:+0200
TZOFFSETTO:+0100
TZNAME:CET
DTSTART:20171029T010000
END:STANDARD
BEGIN:DAYLIGHT
TZOFFSETFROM:+0100
TZOFFSETTO:+0200
TZNAME:CEST
DTSTART:20180325T010000
END:DAYLIGHT
BEGIN:STANDARD
TZOFFSETFROM:+0200
TZOFFSETTO:+0100
TZNAME:CET
DTSTART:20181028T010000
END:STANDARD
END:VTIMEZONE
BEGIN:VEVENT
DTSTART;VALUE=DATE:20170719
DTEND;VALUE=DATE:20170720
DTSTAMP:20260424T105525
CREATED:20170612T152025Z
LAST-MODIFIED:20170627T142848Z
UID:32771-1500422400-1500508799@www.ville-lunion.fr
SUMMARY:Partir en livre
DESCRIPTION:Cette grande fête du livre de jeunesse initiée par le Centre national du livre se déroulera du 19 au 30 juillet sur 14 communes de la Métropole : Balma\, Blagnac\, Colomiers\, Cugnaux\, Fonbeauzard\, Launaguet\, L’Union\, Montrabé\, Mons\, Saint-Jean\, Saint-Orens\,Toulouse\, Tournefeuille\, Villeneuve-Tolosane.  \nViens lire les couleurs du monde\nde 10h-11h30 et 14h-15h30 • Centre de loisirs Avec les lectrices de l’association (Z)oiseaux Livres\, les enfants du centre de loisirs découvriront des albums qui vont les amuser\, les étonner\, les émouvoir\, peut-être même les faire frissonner. Ils sont attendus les oreilles et les yeux grand ouverts. En collaboration avec la bibliothèque Au plaisir de lire et le centre de loisirs de L’Union. Exclusivement pour les enfants inscrits au centre de loisirs  \nLibraire d’un jour… avec Edouard Manceau\nà 16h • Librairie Les Passantes (43\, Avenue de Toulouse ) Échanges et lectures avec Édouard Manceau autour de ses coups de cœur littéraires jeunesse et de son dernier album Coquin de silence ! éditions Albin Michel. (À découvrir en dernière page du programme) Cette rencontre\, animée par Francesca Ciolfi lectrice et coordinatrice de l’association (Z)oiseaux Livres\, sera ponctuée de lectures d’albums et suivie d’une séance de dédicace par l’auteur autour d’un goûter offert par la librairie. Petits et grands\, apportez aussi vos albums préférés pour les partager ! Tout public • Accès libre \nTéléchargez le programme : Téléchargement
URL:https://www.ville-lunion.fr/evenement/partir-en-livre/
CATEGORIES:Mairie
ATTACH;FMTTYPE=image/jpeg:https://www.ville-lunion.fr/wp-content/uploads/2017/06/partir2.jpg
END:VEVENT
END:VCALENDAR