BEGIN:VCALENDAR
VERSION:2.0
PRODID:-//Ville de L&#039;Union - ECPv6.15.13//NONSGML v1.0//EN
CALSCALE:GREGORIAN
METHOD:PUBLISH
X-ORIGINAL-URL:https://www.ville-lunion.fr
X-WR-CALDESC:Évènements pour Ville de L&#039;Union
REFRESH-INTERVAL;VALUE=DURATION:PT1H
X-Robots-Tag:noindex
X-PUBLISHED-TTL:PT1H
BEGIN:VTIMEZONE
TZID:Europe/Paris
BEGIN:DAYLIGHT
TZOFFSETFROM:+0100
TZOFFSETTO:+0200
TZNAME:CEST
DTSTART:20160327T010000
END:DAYLIGHT
BEGIN:STANDARD
TZOFFSETFROM:+0200
TZOFFSETTO:+0100
TZNAME:CET
DTSTART:20161030T010000
END:STANDARD
BEGIN:DAYLIGHT
TZOFFSETFROM:+0100
TZOFFSETTO:+0200
TZNAME:CEST
DTSTART:20170326T010000
END:DAYLIGHT
BEGIN:STANDARD
TZOFFSETFROM:+0200
TZOFFSETTO:+0100
TZNAME:CET
DTSTART:20171029T010000
END:STANDARD
BEGIN:DAYLIGHT
TZOFFSETFROM:+0100
TZOFFSETTO:+0200
TZNAME:CEST
DTSTART:20180325T010000
END:DAYLIGHT
BEGIN:STANDARD
TZOFFSETFROM:+0200
TZOFFSETTO:+0100
TZNAME:CET
DTSTART:20181028T010000
END:STANDARD
END:VTIMEZONE
BEGIN:VEVENT
DTSTART;TZID=Europe/Paris:20170628T130000
DTEND;TZID=Europe/Paris:20170628T130000
DTSTAMP:20260424T105519
CREATED:20170612T083634Z
LAST-MODIFIED:20170612T083836Z
UID:32757-1498654800-1498654800@www.ville-lunion.fr
SUMMARY:Conférence et Pièce de Théâtre "J’AIDE DONC JE SUIS"
DESCRIPTION:A destination des aidants familiaux et professionnels. \nLa plateforme d’accompagnement et de répit des aidants de l’AFC organise\, en partenariat avec le CCAS et la mairie de l’Union un après-midi d’échanges et de convivialité à destination des proches aidants. \nDes ateliers seront en parallèle proposés à leurs proches en perte d’autonomie. Cette journée est également ouverte aux professionnels.\nParticipation Gratuite \nPROGRAMME DE L’APRES MIDI\n13 H : Accueil des participants\n13 H 30 : « Chroniques atypiques » – Troupe de théâtre « Les neurotypik »\n15 H : « Vivre avec Alzheimer » Thierry Darnaud\, Psychologue\, maître de conférences \nRENSEIGNEMENTS ET INSCRIPTIONS\nauprès de Julie CABANNE : 05 61 84 30 69\nplateforme@afc31.fr \n+ d’infos sur www.afc31.fr
URL:https://www.ville-lunion.fr/evenement/conference-piece-de-theatre-jaide-suis/
LOCATION:Salle des fêtes de L’Union\, 6 Avenue des Pyrénées\, L'Union\, 31240\, France
CATEGORIES:Associations
ATTACH;FMTTYPE=image/jpeg:https://www.ville-lunion.fr/wp-content/uploads/2017/06/jaide.jpg
END:VEVENT
BEGIN:VEVENT
DTSTART;TZID=Europe/Paris:20170628T170000
DTEND;TZID=Europe/Paris:20170628T170000
DTSTAMP:20260424T105519
CREATED:20170613T153055Z
LAST-MODIFIED:20170613T164322Z
UID:32808-1498669200-1498669200@www.ville-lunion.fr
SUMMARY:Spectacle "Les Diablotrains "
DESCRIPTION:L’association Los Menudets est heureuse de vous inviter au spectacle du groupe de création 9-12 ans du Lido\, l’école du cirque toulousaine. Ce spectacle est destiné à un jeune public.\nLe spectacle se déroulera à partir de 17h sous la halle Saint-Caprais (près du lac). L’entrée est libre \nIci c’est guinguette ! – Ici\, tu rentres\, t’enlèves tes souliers\, tu te mets à jongler\, tu prends un café\, tu reprends un thé\, tu reprends un café\, tu te mets à swinguer\, ambiance déformée dans ce troquet endiablé\, place aux super-héroïnes ratées\, piano-bar à volonté\, serveurs déglingués\, barmans dérangés\, vous reprendrez bien un café ?
URL:https://www.ville-lunion.fr/evenement/spectacle-les-diablotrains/
LOCATION:Stade de Saint-Caprais\, 79 Avenue de Bayonne\, L'Union\, 31240 \, France
CATEGORIES:Associations,Spectacles
ATTACH;FMTTYPE=image/jpeg:https://www.ville-lunion.fr/wp-content/uploads/2017/06/les-diablotrains.jpg
ORGANIZER;CN="Calandreta de L%E2%80%99Union %E2%80%93 Los Menudets":MAILTO:– Calandreta : calandreta.lunion@gmail.com – Los Menudets : losmenudets.calandreta@gmail.com
END:VEVENT
END:VCALENDAR