BEGIN:VCALENDAR
VERSION:2.0
PRODID:-//Ville de L&#039;Union - ECPv6.15.13//NONSGML v1.0//EN
CALSCALE:GREGORIAN
METHOD:PUBLISH
X-WR-CALNAME:Ville de L&#039;Union
X-ORIGINAL-URL:https://www.ville-lunion.fr
X-WR-CALDESC:Évènements pour Ville de L&#039;Union
REFRESH-INTERVAL;VALUE=DURATION:PT1H
X-Robots-Tag:noindex
X-PUBLISHED-TTL:PT1H
BEGIN:VTIMEZONE
TZID:Europe/Paris
BEGIN:DAYLIGHT
TZOFFSETFROM:+0100
TZOFFSETTO:+0200
TZNAME:CEST
DTSTART:20160327T010000
END:DAYLIGHT
BEGIN:STANDARD
TZOFFSETFROM:+0200
TZOFFSETTO:+0100
TZNAME:CET
DTSTART:20161030T010000
END:STANDARD
BEGIN:DAYLIGHT
TZOFFSETFROM:+0100
TZOFFSETTO:+0200
TZNAME:CEST
DTSTART:20170326T010000
END:DAYLIGHT
BEGIN:STANDARD
TZOFFSETFROM:+0200
TZOFFSETTO:+0100
TZNAME:CET
DTSTART:20171029T010000
END:STANDARD
BEGIN:DAYLIGHT
TZOFFSETFROM:+0100
TZOFFSETTO:+0200
TZNAME:CEST
DTSTART:20180325T010000
END:DAYLIGHT
BEGIN:STANDARD
TZOFFSETFROM:+0200
TZOFFSETTO:+0100
TZNAME:CET
DTSTART:20181028T010000
END:STANDARD
END:VTIMEZONE
BEGIN:VEVENT
DTSTART;VALUE=DATE:20170625
DTEND;VALUE=DATE:20170626
DTSTAMP:20260424T122057
CREATED:20170515T133554Z
LAST-MODIFIED:20170519T093046Z
UID:32521-1498348800-1498435199@www.ville-lunion.fr
SUMMARY:Journée navigation et astronomie au lac
DESCRIPTION:L’Amicale Maquettiste et le club d’astronomie NEPTUNION31 de L’UNION vous invitent le dimanche 25 juin de 10 h à 17 heures au bord du lac Saint-Caprais. Il y aura une exposition de maquettes de bateaux et de matériel d’astronomie avec des animations\, observations du soleil et des navigations de modèles réduits\, voiliers\, racers électriques… Entrée gratuite\, renseignements : infos@amu31.com et neptunion31@gmail.com
URL:https://www.ville-lunion.fr/evenement/journee-navigation-astronomie-lac/
LOCATION:lac de St Caprais\, 79 Avenue de Bayonne\, L'UNION\, 31240\, France
CATEGORIES:Associations
ATTACH;FMTTYPE=image/jpeg:https://www.ville-lunion.fr/wp-content/uploads/2017/05/amu2.jpg
ORGANIZER;CN="AMU":MAILTO:infos@amu31.com
END:VEVENT
BEGIN:VEVENT
DTSTART;TZID=Europe/Paris:20170625T153000
DTEND;TZID=Europe/Paris:20170625T153000
DTSTAMP:20260424T122057
CREATED:20170529T130811Z
LAST-MODIFIED:20170529T130811Z
UID:32622-1498404600-1498404600@www.ville-lunion.fr
SUMMARY:L’UNION en pistes - Édition 2017
DESCRIPTION:Un moment convivial pour apprendre à partager la ville entre voitures\, piétons\, personnes à mobilité réduite et vélos ! \nDans notre commune\, un réseau complet\, rationnel et sécurisé d’itinéraires cyclables se met progressivement en place (voir « l’Unionais » de mai 2017)\nPour inciter les Unionais à emprunter ce réseau\, il s’agit de leur faire découvrir les quatre « boucles cyclables » sécurisées qui progressivement se dessinent à l’Union.\nPour cela\, le dimanche 25 juin aura lieu la deuxième édition de « L’Union en piste(s) » avec l’inauguration par les Unionais en peloton de la nouvelle piste de l’Avenue des Pyrénées\, suivie d’un nouveau parcours découverte qui nous mènera à la piste champêtre de l’avenue des vents d’Autan puis jusqu’au groupe scolaire Montizalguier et sa voie verte fraîchement aménagée\, avant un retour place San Biagio.\nPetits et grands sont attendus à 15h30 place San Biagio pour une promenade familiale de 7kms environ\, avec leurs vélos et équipements de sécurité ! Un goûter offert la clôturera.
URL:https://www.ville-lunion.fr/evenement/lunion-pistes-edition-2017/
LOCATION:Place San Biagio\, place San Biagio\, L'UNION\, 31240\, France
CATEGORIES:Sport
ATTACH;FMTTYPE=image/jpeg:https://www.ville-lunion.fr/wp-content/uploads/2017/05/lunionenpiste.jpg
END:VEVENT
END:VCALENDAR