BEGIN:VCALENDAR
VERSION:2.0
PRODID:-//Ville de L&#039;Union - ECPv6.15.13//NONSGML v1.0//EN
CALSCALE:GREGORIAN
METHOD:PUBLISH
X-ORIGINAL-URL:https://www.ville-lunion.fr
X-WR-CALDESC:Évènements pour Ville de L&#039;Union
REFRESH-INTERVAL;VALUE=DURATION:PT1H
X-Robots-Tag:noindex
X-PUBLISHED-TTL:PT1H
BEGIN:VTIMEZONE
TZID:Europe/Paris
BEGIN:DAYLIGHT
TZOFFSETFROM:+0100
TZOFFSETTO:+0200
TZNAME:CEST
DTSTART:20160327T010000
END:DAYLIGHT
BEGIN:STANDARD
TZOFFSETFROM:+0200
TZOFFSETTO:+0100
TZNAME:CET
DTSTART:20161030T010000
END:STANDARD
BEGIN:DAYLIGHT
TZOFFSETFROM:+0100
TZOFFSETTO:+0200
TZNAME:CEST
DTSTART:20170326T010000
END:DAYLIGHT
BEGIN:STANDARD
TZOFFSETFROM:+0200
TZOFFSETTO:+0100
TZNAME:CET
DTSTART:20171029T010000
END:STANDARD
BEGIN:DAYLIGHT
TZOFFSETFROM:+0100
TZOFFSETTO:+0200
TZNAME:CEST
DTSTART:20180325T010000
END:DAYLIGHT
BEGIN:STANDARD
TZOFFSETFROM:+0200
TZOFFSETTO:+0100
TZNAME:CET
DTSTART:20181028T010000
END:STANDARD
END:VTIMEZONE
BEGIN:VEVENT
DTSTART;TZID=Europe/Paris:20170612T140000
DTEND;TZID=Europe/Paris:20170612T140000
DTSTAMP:20260424T122259
CREATED:20170529T125314Z
LAST-MODIFIED:20170606T124251Z
UID:32619-1497276000-1497276000@www.ville-lunion.fr
SUMMARY:Réunion d’information « Bien Vivre l’avancée En Âge Et Préserver Sa Santé »
DESCRIPTION:Pour les personnes à partir de 60 ans \nPrésence d’un médecin\, d’une infirmière et d’une ergothérapeute. Inscriptions et informations au 05 61 15 74 84. \nEntrée gratuite et collation offerte.
URL:https://www.ville-lunion.fr/evenement/reunion-dinformation-bien-vivre-lavancee-age-preserver-sante/
LOCATION:Foyer de la Grande Halle de l’Union\, Rue du Somport\, 31240
CATEGORIES:Associations
ATTACH;FMTTYPE=image/jpeg:https://www.ville-lunion.fr/wp-content/uploads/2017/05/asa.jpg
END:VEVENT
END:VCALENDAR