BEGIN:VCALENDAR
VERSION:2.0
PRODID:-//Ville de L&#039;Union - ECPv6.15.13//NONSGML v1.0//EN
CALSCALE:GREGORIAN
METHOD:PUBLISH
X-WR-CALNAME:Ville de L&#039;Union
X-ORIGINAL-URL:https://www.ville-lunion.fr
X-WR-CALDESC:Évènements pour Ville de L&#039;Union
REFRESH-INTERVAL;VALUE=DURATION:PT1H
X-Robots-Tag:noindex
X-PUBLISHED-TTL:PT1H
BEGIN:VTIMEZONE
TZID:Europe/Paris
BEGIN:DAYLIGHT
TZOFFSETFROM:+0100
TZOFFSETTO:+0200
TZNAME:CEST
DTSTART:20160327T010000
END:DAYLIGHT
BEGIN:STANDARD
TZOFFSETFROM:+0200
TZOFFSETTO:+0100
TZNAME:CET
DTSTART:20161030T010000
END:STANDARD
BEGIN:DAYLIGHT
TZOFFSETFROM:+0100
TZOFFSETTO:+0200
TZNAME:CEST
DTSTART:20170326T010000
END:DAYLIGHT
BEGIN:STANDARD
TZOFFSETFROM:+0200
TZOFFSETTO:+0100
TZNAME:CET
DTSTART:20171029T010000
END:STANDARD
BEGIN:DAYLIGHT
TZOFFSETFROM:+0100
TZOFFSETTO:+0200
TZNAME:CEST
DTSTART:20180325T010000
END:DAYLIGHT
BEGIN:STANDARD
TZOFFSETFROM:+0200
TZOFFSETTO:+0100
TZNAME:CET
DTSTART:20181028T010000
END:STANDARD
END:VTIMEZONE
BEGIN:VEVENT
DTSTART;VALUE=DATE:20170611
DTEND;VALUE=DATE:20170612
DTSTAMP:20260424T122141
CREATED:20170228T144214Z
LAST-MODIFIED:20170228T144214Z
UID:31612-1497139200-1497225599@www.ville-lunion.fr
SUMMARY:Elections législatives
DESCRIPTION:informations à venir
URL:https://www.ville-lunion.fr/evenement/elections-legislatives/
LOCATION:Grande Halle de l’Union\, Rue du Somport\, L'Union\, 31240\, France
CATEGORIES:Mairie
ATTACH;FMTTYPE=image/jpeg:https://www.ville-lunion.fr/wp-content/uploads/2017/02/elections.jpg
END:VEVENT
BEGIN:VEVENT
DTSTART;VALUE=DATE:20170611
DTEND;VALUE=DATE:20170612
DTSTAMP:20260424T122142
CREATED:20170427T150940Z
LAST-MODIFIED:20170427T151148Z
UID:32329-1497139200-1497225599@www.ville-lunion.fr
SUMMARY:Vide grenier du foot
DESCRIPTION:
URL:https://www.ville-lunion.fr/evenement/vide-grenier-foot/
LOCATION:Halle St Caprais\, Route de Bayonne\, L'Union\, 31240
CATEGORIES:Associations
ATTACH;FMTTYPE=image/jpeg:https://www.ville-lunion.fr/wp-content/uploads/2017/04/asuf.jpg
ORGANIZER;CN="ASUF":MAILTO:contact@asu-football.fr
END:VEVENT
BEGIN:VEVENT
DTSTART;TZID=Europe/Paris:20170611T160000
DTEND;TZID=Europe/Paris:20170611T160000
DTSTAMP:20260424T122142
CREATED:20170529T140719Z
LAST-MODIFIED:20170529T140719Z
UID:32643-1497196800-1497196800@www.ville-lunion.fr
SUMMARY:Théâtre "un petit jeu sans conséquence"
DESCRIPTION:Par la troupe de l’oiseau moqueur \nEntrée libre
URL:https://www.ville-lunion.fr/evenement/theatre-petit-jeu-consequence/
LOCATION:Salle des fêtes de L’Union\, 6 Avenue des Pyrénées\, L'Union\, 31240\, France
CATEGORIES:Associations
ATTACH;FMTTYPE=image/jpeg:https://www.ville-lunion.fr/wp-content/uploads/2017/05/jeu.jpg
END:VEVENT
END:VCALENDAR