BEGIN:VCALENDAR
VERSION:2.0
PRODID:-//Ville de L&#039;Union - ECPv6.15.13//NONSGML v1.0//EN
CALSCALE:GREGORIAN
METHOD:PUBLISH
X-ORIGINAL-URL:https://www.ville-lunion.fr
X-WR-CALDESC:Évènements pour Ville de L&#039;Union
REFRESH-INTERVAL;VALUE=DURATION:PT1H
X-Robots-Tag:noindex
X-PUBLISHED-TTL:PT1H
BEGIN:VTIMEZONE
TZID:Europe/Paris
BEGIN:DAYLIGHT
TZOFFSETFROM:+0100
TZOFFSETTO:+0200
TZNAME:CEST
DTSTART:20160327T010000
END:DAYLIGHT
BEGIN:STANDARD
TZOFFSETFROM:+0200
TZOFFSETTO:+0100
TZNAME:CET
DTSTART:20161030T010000
END:STANDARD
BEGIN:DAYLIGHT
TZOFFSETFROM:+0100
TZOFFSETTO:+0200
TZNAME:CEST
DTSTART:20170326T010000
END:DAYLIGHT
BEGIN:STANDARD
TZOFFSETFROM:+0200
TZOFFSETTO:+0100
TZNAME:CET
DTSTART:20171029T010000
END:STANDARD
BEGIN:DAYLIGHT
TZOFFSETFROM:+0100
TZOFFSETTO:+0200
TZNAME:CEST
DTSTART:20180325T010000
END:DAYLIGHT
BEGIN:STANDARD
TZOFFSETFROM:+0200
TZOFFSETTO:+0100
TZNAME:CET
DTSTART:20181028T010000
END:STANDARD
END:VTIMEZONE
BEGIN:VEVENT
DTSTART;VALUE=DATE:20170527
DTEND;VALUE=DATE:20170528
DTSTAMP:20260424T134553
CREATED:20170202T161546Z
LAST-MODIFIED:20170426T080423Z
UID:31447-1495843200-1495929599@www.ville-lunion.fr
SUMMARY:Commémoration 27 mai
DESCRIPTION:JOURNÉE NATIONALE de la Résistance LA MUNICIPALITÉ DE L’UNION EN PARTENARIAT AVEC LE MÉMORIAL FORAIN FRANÇOIS VERDIER VOUS CONVIE :\n16h : Conférence animée par l’historienne Elerika Leroy au cinéma Le Lumière\n« La guerre à L’Union\, histoire de celles et ceux qui organisèrent la Résistance en gare de Loubers : la 35ème brigade FTP-MOI Marcel Langer. »\nIllustrée par les témoignages de ces résistants issus du film de Mosco Boucault « Ni travail\, ni famille\, ni patrie »\, cette conférence vous invite à découvrir les\nmembres de la 35ème Brigade\, groupe actif de Résistance. Parmi eux Schimmel Gold\, alias Charles Michalak\, qui préparait dans son atelier les actions contre les\nNazis\, tout en cultivant son jardin à la gare de Loubers. \n18h : Cérémonie d’hommage place San Biagio face à la plaque à la mémoire de la 35ème brigade.
URL:https://www.ville-lunion.fr/evenement/commemoration-27-mai/
LOCATION:Place San Biagio\, place San Biagio\, L'UNION\, 31240\, France
CATEGORIES:Manifestations
ATTACH;FMTTYPE=image/jpeg:https://www.ville-lunion.fr/wp-content/uploads/2017/02/27-mai.jpg
END:VEVENT
END:VCALENDAR