BEGIN:VCALENDAR
VERSION:2.0
PRODID:-//Ville de L&#039;Union - ECPv6.15.13//NONSGML v1.0//EN
CALSCALE:GREGORIAN
METHOD:PUBLISH
X-WR-CALNAME:Ville de L&#039;Union
X-ORIGINAL-URL:https://www.ville-lunion.fr
X-WR-CALDESC:Évènements pour Ville de L&#039;Union
REFRESH-INTERVAL;VALUE=DURATION:PT1H
X-Robots-Tag:noindex
X-PUBLISHED-TTL:PT1H
BEGIN:VTIMEZONE
TZID:Europe/Paris
BEGIN:DAYLIGHT
TZOFFSETFROM:+0100
TZOFFSETTO:+0200
TZNAME:CEST
DTSTART:20160327T010000
END:DAYLIGHT
BEGIN:STANDARD
TZOFFSETFROM:+0200
TZOFFSETTO:+0100
TZNAME:CET
DTSTART:20161030T010000
END:STANDARD
BEGIN:DAYLIGHT
TZOFFSETFROM:+0100
TZOFFSETTO:+0200
TZNAME:CEST
DTSTART:20170326T010000
END:DAYLIGHT
BEGIN:STANDARD
TZOFFSETFROM:+0200
TZOFFSETTO:+0100
TZNAME:CET
DTSTART:20171029T010000
END:STANDARD
BEGIN:DAYLIGHT
TZOFFSETFROM:+0100
TZOFFSETTO:+0200
TZNAME:CEST
DTSTART:20180325T010000
END:DAYLIGHT
BEGIN:STANDARD
TZOFFSETFROM:+0200
TZOFFSETTO:+0100
TZNAME:CET
DTSTART:20181028T010000
END:STANDARD
END:VTIMEZONE
BEGIN:VEVENT
DTSTART;VALUE=DATE:20170519
DTEND;VALUE=DATE:20170522
DTSTAMP:20260424T134434
CREATED:20170427T145727Z
LAST-MODIFIED:20170427T145818Z
UID:32323-1495152000-1495411199@www.ville-lunion.fr
SUMMARY:exposition Union Image
DESCRIPTION:Exposition des photos des adhérents de l’association \nEntrée libre
URL:https://www.ville-lunion.fr/evenement/exposition-union-image/
LOCATION:Foyer de la Grande Halle de l’Union\, Rue du Somport\, 31240
CATEGORIES:Associations
ATTACH;FMTTYPE=image/jpeg:https://www.ville-lunion.fr/wp-content/uploads/2017/04/union-images.jpg
ORGANIZER;CN="Union Images":MAILTO:unionimages@gmail.com
END:VEVENT
BEGIN:VEVENT
DTSTART;TZID=Europe/Paris:20170520T130000
DTEND;TZID=Europe/Paris:20170520T200000
DTSTAMP:20260424T134434
CREATED:20170322T113823Z
LAST-MODIFIED:20170428T093508Z
UID:31783-1495285200-1495310400@www.ville-lunion.fr
SUMMARY:HANDBALLEZ-VOUS POUR LENNY
DESCRIPTION:L’Association Sportive L’Union HandBall\, Organise pour la 3 ème année\, le tournoi « HANDBALLEZ VOUS POUR LENNY » A travers les valeurs du handball nous désirons accompagner le petit Lenny et aider sa maman. \nLa recette de cette journée sera entièrement reversée à l’association UNIS POUR LENNY. \n  \n 
URL:https://www.ville-lunion.fr/evenement/handballez-vous-pour-lenny/
LOCATION:Stade Georges BEYNEY\, 11 rue du Puy de Sancy\, L'Union\, 31240\, France
CATEGORIES:Associations,Manifestations
ATTACH;FMTTYPE=image/jpeg:https://www.ville-lunion.fr/wp-content/uploads/2017/03/Affiche-HANDBALLEZ-VOUS-POUR-LENNY-2017.jpg
END:VEVENT
BEGIN:VEVENT
DTSTART;TZID=Europe/Paris:20170520T150000
DTEND;TZID=Europe/Paris:20170520T150000
DTSTAMP:20260424T134434
CREATED:20170427T143533Z
LAST-MODIFIED:20170511T100721Z
UID:32315-1495292400-1495292400@www.ville-lunion.fr
SUMMARY:MACADAM’ART Festival des cultures urbaines
DESCRIPTION:Les  MJC de L’Union et de Saint Jean s’associent pour organiser pour la première fois sur ces communes un festival de cultures urbaines. \nLe samedi 20 mai 2017 le festival Macadam’Art (première édition) aura lieu à L’Union sur la place San Biagio (entre la mairie et la poste) de 15h à 22h30. \nAu programme : l’après midi à partir de 15h initiations et démonstrations de graff\, parkour\, skate\, cirque\, longboard encadrées par des professionnels. \nEn soirée\, à partir de 19h place à la « Block Party » avec Battle exhibition danse hip hop\, Open Mic (micro libre) et circle session (scène ouverte toutes disciplines). \nVous pouvez retrouver toutes les informations et vous inscrire au battle sur le facebook : Macadamart2017 \nIl y aura sur place une buvette et une restauration avec l’association L’Union festivités. \nVenez découvrir nombreux les disciplines de la culture urbaine lors de cette journée festive ! \n  \n 
URL:https://www.ville-lunion.fr/evenement/macadamart-festival-cultures-urbaines/
LOCATION:Place San Biagio\, place San Biagio\, L'UNION\, 31240\, France
CATEGORIES:Associations
ATTACH;FMTTYPE=image/jpeg:https://www.ville-lunion.fr/wp-content/uploads/2017/04/macadamart.jpg
ORGANIZER;CN="Maison des Jeunes et de la Culture":MAILTO:mjc.lunion@free.fr
END:VEVENT
BEGIN:VEVENT
DTSTART;TZID=Europe/Paris:20170520T193000
DTEND;TZID=Europe/Paris:20170520T193000
DTSTAMP:20260424T134434
CREATED:20170425T071413Z
LAST-MODIFIED:20170428T082301Z
UID:32245-1495308600-1495308600@www.ville-lunion.fr
SUMMARY:EKIDEN – MARATHON EN RELAIS
DESCRIPTION:Cette course s’ effectue en relais à la tombée de la nuit sur une distance de 42\,195 km.\nLe 1er relayeur doit parcourir 5 km\,\n– le 2ème 10 km\,\n– le 3ème 5 km\,\n– le 4ème 10 km\,\n– le 5ème 5 km\n– et enfin le dernier 7\,195 km. \nGrâce à ces distances courtes\, l’Ekiden présente l’avantage d’être accessible à tous : runners confirmés\, débutants\, entreprises\, étudiants\, familles… \nDe nombreuses animations seront proposées sur le village départ / arrivée à La Halle de L’Union. \n+ d’infos et inscriptions : http://runningday.fr/ekiden-marathon-luniontls/ \n 
URL:https://www.ville-lunion.fr/evenement/ekiden-marathon-relais/
LOCATION:Grande Halle de l’Union\, Rue du Somport\, L'Union\, 31240\, France
CATEGORIES:Sport
ATTACH;FMTTYPE=image/jpeg:https://www.ville-lunion.fr/wp-content/uploads/2017/04/ekiden.jpg
END:VEVENT
END:VCALENDAR