BEGIN:VCALENDAR
VERSION:2.0
PRODID:-//Ville de L&#039;Union - ECPv6.15.13//NONSGML v1.0//EN
CALSCALE:GREGORIAN
METHOD:PUBLISH
X-WR-CALNAME:Ville de L&#039;Union
X-ORIGINAL-URL:https://www.ville-lunion.fr
X-WR-CALDESC:Évènements pour Ville de L&#039;Union
REFRESH-INTERVAL;VALUE=DURATION:PT1H
X-Robots-Tag:noindex
X-PUBLISHED-TTL:PT1H
BEGIN:VTIMEZONE
TZID:Europe/Paris
BEGIN:DAYLIGHT
TZOFFSETFROM:+0100
TZOFFSETTO:+0200
TZNAME:CEST
DTSTART:20160327T010000
END:DAYLIGHT
BEGIN:STANDARD
TZOFFSETFROM:+0200
TZOFFSETTO:+0100
TZNAME:CET
DTSTART:20161030T010000
END:STANDARD
BEGIN:DAYLIGHT
TZOFFSETFROM:+0100
TZOFFSETTO:+0200
TZNAME:CEST
DTSTART:20170326T010000
END:DAYLIGHT
BEGIN:STANDARD
TZOFFSETFROM:+0200
TZOFFSETTO:+0100
TZNAME:CET
DTSTART:20171029T010000
END:STANDARD
BEGIN:DAYLIGHT
TZOFFSETFROM:+0100
TZOFFSETTO:+0200
TZNAME:CEST
DTSTART:20180325T010000
END:DAYLIGHT
BEGIN:STANDARD
TZOFFSETFROM:+0200
TZOFFSETTO:+0100
TZNAME:CET
DTSTART:20181028T010000
END:STANDARD
END:VTIMEZONE
BEGIN:VEVENT
DTSTART;TZID=Europe/Paris:20170517T140000
DTEND;TZID=Europe/Paris:20170517T140000
DTSTAMP:20260424T134429
CREATED:20170421T131018Z
LAST-MODIFIED:20170504T075700Z
UID:32224-1495029600-1495029600@www.ville-lunion.fr
SUMMARY:RECRE O’LAC
DESCRIPTION:L’Union Festivités vous propose un après-midi au bord du lac en attendant les vacances.\nDe 14h à 17h : Sculpture sur ballons\, magie\, châteaux gonflables et jeux en bois.. Ouvert aux enfants à partir de 3 ans\, à la halle couverte Saint Caprais \nLes ados ne sont pas oubliés !\nSTRADLINE sera en concert à partir de 17H sous la halle couverte. On ne présente plus ces quatre jeunes Unionais qui reprennent avec talent les chansons mythiques.Loup\, Lucas\, Marc et Bastien vous attendent nombreux !
URL:https://www.ville-lunion.fr/evenement/recre-olac/
LOCATION:lac de St Caprais\, 79 Avenue de Bayonne\, L'UNION\, 31240\, France
CATEGORIES:Associations
ATTACH;FMTTYPE=image/jpeg:https://www.ville-lunion.fr/wp-content/uploads/2017/04/recreolac.jpg
END:VEVENT
END:VCALENDAR