BEGIN:VCALENDAR
VERSION:2.0
PRODID:-//Ville de L&#039;Union - ECPv6.15.13//NONSGML v1.0//EN
CALSCALE:GREGORIAN
METHOD:PUBLISH
X-ORIGINAL-URL:https://www.ville-lunion.fr
X-WR-CALDESC:Évènements pour Ville de L&#039;Union
REFRESH-INTERVAL;VALUE=DURATION:PT1H
X-Robots-Tag:noindex
X-PUBLISHED-TTL:PT1H
BEGIN:VTIMEZONE
TZID:Europe/Paris
BEGIN:DAYLIGHT
TZOFFSETFROM:+0100
TZOFFSETTO:+0200
TZNAME:CEST
DTSTART:20160327T010000
END:DAYLIGHT
BEGIN:STANDARD
TZOFFSETFROM:+0200
TZOFFSETTO:+0100
TZNAME:CET
DTSTART:20161030T010000
END:STANDARD
BEGIN:DAYLIGHT
TZOFFSETFROM:+0100
TZOFFSETTO:+0200
TZNAME:CEST
DTSTART:20170326T010000
END:DAYLIGHT
BEGIN:STANDARD
TZOFFSETFROM:+0200
TZOFFSETTO:+0100
TZNAME:CET
DTSTART:20171029T010000
END:STANDARD
BEGIN:DAYLIGHT
TZOFFSETFROM:+0100
TZOFFSETTO:+0200
TZNAME:CEST
DTSTART:20180325T010000
END:DAYLIGHT
BEGIN:STANDARD
TZOFFSETFROM:+0200
TZOFFSETTO:+0100
TZNAME:CET
DTSTART:20181028T010000
END:STANDARD
END:VTIMEZONE
BEGIN:VEVENT
DTSTART;TZID=Europe/Paris:20170514T090000
DTEND;TZID=Europe/Paris:20170514T190000
DTSTAMP:20260424T134554
CREATED:20170427T144716Z
LAST-MODIFIED:20170427T144804Z
UID:32317-1494752400-1494788400@www.ville-lunion.fr
SUMMARY:Salon arts déco
DESCRIPTION:Les associations créatives unionaises exposent au foyer. Entrée libre
URL:https://www.ville-lunion.fr/evenement/salon-arts-deco/
LOCATION:Foyer de la Grande Halle de l’Union\, Rue du Somport\, 31240
CATEGORIES:Associations
ATTACH;FMTTYPE=image/jpeg:https://www.ville-lunion.fr/wp-content/uploads/2017/04/salon-art-deco.jpg
END:VEVENT
END:VCALENDAR