BEGIN:VCALENDAR
VERSION:2.0
PRODID:-//Ville de L&#039;Union - ECPv6.15.13//NONSGML v1.0//EN
CALSCALE:GREGORIAN
METHOD:PUBLISH
X-ORIGINAL-URL:https://www.ville-lunion.fr
X-WR-CALDESC:Évènements pour Ville de L&#039;Union
REFRESH-INTERVAL;VALUE=DURATION:PT1H
X-Robots-Tag:noindex
X-PUBLISHED-TTL:PT1H
BEGIN:VTIMEZONE
TZID:Europe/Paris
BEGIN:DAYLIGHT
TZOFFSETFROM:+0100
TZOFFSETTO:+0200
TZNAME:CEST
DTSTART:20160327T010000
END:DAYLIGHT
BEGIN:STANDARD
TZOFFSETFROM:+0200
TZOFFSETTO:+0100
TZNAME:CET
DTSTART:20161030T010000
END:STANDARD
BEGIN:DAYLIGHT
TZOFFSETFROM:+0100
TZOFFSETTO:+0200
TZNAME:CEST
DTSTART:20170326T010000
END:DAYLIGHT
BEGIN:STANDARD
TZOFFSETFROM:+0200
TZOFFSETTO:+0100
TZNAME:CET
DTSTART:20171029T010000
END:STANDARD
BEGIN:DAYLIGHT
TZOFFSETFROM:+0100
TZOFFSETTO:+0200
TZNAME:CEST
DTSTART:20180325T010000
END:DAYLIGHT
BEGIN:STANDARD
TZOFFSETFROM:+0200
TZOFFSETTO:+0100
TZNAME:CET
DTSTART:20181028T010000
END:STANDARD
END:VTIMEZONE
BEGIN:VEVENT
DTSTART;TZID=Europe/Paris:20170513T140000
DTEND;TZID=Europe/Paris:20170513T140000
DTSTAMP:20260424T134553
CREATED:20170427T142008Z
LAST-MODIFIED:20170427T142008Z
UID:32311-1494684000-1494684000@www.ville-lunion.fr
SUMMARY:La TOTAL’IMPRO #2
DESCRIPTION:Rencontre autours des pratiques de théâtre d’improvisation. \nRendez-vous de 3 MJC : L’Union / Toulouse Ponts Jumeaux / Toulouse Croix Daurade. \nPrès d’une cinquantaine de jeunes se retrouvent toute une journée autours de leurs intervenants théâtre afin de proposer une représentation mêlant rire\, danse\, musique et improvisation.\nRéservation obligatoire au 05 61 74 75 75.20
URL:https://www.ville-lunion.fr/evenement/la-totalimpro-2/
LOCATION:Salle des fêtes de L’Union\, 6 Avenue des Pyrénées\, L'Union\, 31240\, France
CATEGORIES:Associations
ATTACH;FMTTYPE=image/jpeg:https://www.ville-lunion.fr/wp-content/uploads/2017/04/mjc.jpg
ORGANIZER;CN="MJC":MAILTO:mjclunion.secretariat@gmail.com
END:VEVENT
BEGIN:VEVENT
DTSTART;TZID=Europe/Paris:20170513T203000
DTEND;TZID=Europe/Paris:20170513T203000
DTSTAMP:20260424T134553
CREATED:20170105T160259Z
LAST-MODIFIED:20170502T095338Z
UID:31264-1494707400-1494707400@www.ville-lunion.fr
SUMMARY:Récital de piano classique
DESCRIPTION:L’Union accueille Piano aux Jacobins dans le cadre de l’Europe du piano \n  \n\n					Tarif : 12 € – tarif réduit : 6€ (enfants de – 16 ans\, étudiants\, demandeurs d’emplois)\nPiano aux Jacobins est un rendez-vous réputé de la scène musicale française et internationale. Depuis sa création il s’attache à mettre en avant des célébrités et talents nouveaux\, à offrir un panorama de l’univers extraordinairement riche et toujours renouvelé du piano. \nLa ville de l’Union accueille cette année Axia Marinescu\, pianiste lauréate de plusieurs concours internationaux en Roumanie\, France\, Italie\, Grèce \nProgramme :\nSchubert: Quatre Impromptus D 899 op.90 (30’)\nChopin: Ballade n°2 en fa majeur\, op.38 (8’)\nEntr’acte\nChopin: Scherzo n°4 en mi majeur\, op.54 (11’)\nDebussy: Reflets dans l’eau ( ext. Images\, Livre 1) (5’)\nRavel: Sonatine (11’) \n  \nhttps://lunion.festik.net/piano \n 
URL:https://www.ville-lunion.fr/evenement/recital-de-piano-classique/
LOCATION:Grande Halle de l’Union\, Rue du Somport\, L'Union\, 31240\, France
CATEGORIES:Spectacles
ATTACH;FMTTYPE=image/jpeg:https://www.ville-lunion.fr/wp-content/uploads/2017/01/piano.jpg
ORGANIZER;CN="Mairie%2C service billeterie":MAILTO:cca@mairie-lunion.fr
END:VEVENT
END:VCALENDAR