BEGIN:VCALENDAR
VERSION:2.0
PRODID:-//Ville de L&#039;Union - ECPv6.15.13//NONSGML v1.0//EN
CALSCALE:GREGORIAN
METHOD:PUBLISH
X-ORIGINAL-URL:https://www.ville-lunion.fr
X-WR-CALDESC:Évènements pour Ville de L&#039;Union
REFRESH-INTERVAL;VALUE=DURATION:PT1H
X-Robots-Tag:noindex
X-PUBLISHED-TTL:PT1H
BEGIN:VTIMEZONE
TZID:Europe/Paris
BEGIN:DAYLIGHT
TZOFFSETFROM:+0100
TZOFFSETTO:+0200
TZNAME:CEST
DTSTART:20160327T010000
END:DAYLIGHT
BEGIN:STANDARD
TZOFFSETFROM:+0200
TZOFFSETTO:+0100
TZNAME:CET
DTSTART:20161030T010000
END:STANDARD
BEGIN:DAYLIGHT
TZOFFSETFROM:+0100
TZOFFSETTO:+0200
TZNAME:CEST
DTSTART:20170326T010000
END:DAYLIGHT
BEGIN:STANDARD
TZOFFSETFROM:+0200
TZOFFSETTO:+0100
TZNAME:CET
DTSTART:20171029T010000
END:STANDARD
BEGIN:DAYLIGHT
TZOFFSETFROM:+0100
TZOFFSETTO:+0200
TZNAME:CEST
DTSTART:20180325T010000
END:DAYLIGHT
BEGIN:STANDARD
TZOFFSETFROM:+0200
TZOFFSETTO:+0100
TZNAME:CET
DTSTART:20181028T010000
END:STANDARD
END:VTIMEZONE
BEGIN:VEVENT
DTSTART;TZID=Europe/Paris:20170313T203000
DTEND;TZID=Europe/Paris:20170313T203000
DTSTAMP:20260424T165504
CREATED:20170228T173706Z
LAST-MODIFIED:20170228T173706Z
UID:31639-1489437000-1489437000@www.ville-lunion.fr
SUMMARY:CINÉ - DÉBAT La Buena Vida
DESCRIPTION:(Colombie\, Allemagne\, Suisse) Grand Prix 2016 du Festival FReDD de Toulouse \nEn Colombie les sociétés occidentales propriétaires d’une immense mine de charbon à ciel ouvert ont décidé de l’agrandir encore et se heurtent à la résistance farouche de la tribu des Wayuu\, habitants d’un village voisin\, adeptes d’une vie simple et proche de la nature et bien déterminés à ne pas se laisser expulser malgré l’attribution de maisons modernes qui leur sont proposées….. Confrontation de modes de vie radicalement différents.\nLa projection sera suivie d’un débat avec Yves ARDOUREL\, Président de l’Association toulousaine FReDD (Film\,Recherche et Développement Durable) et chercheur à l’Université Montaigne de Bordeaux. \n 
URL:https://www.ville-lunion.fr/evenement/cine-debat-buena-vida/
LOCATION:Le Lumière\, 6 Rue du Pic du Midi\, L'Union\, 31240\, France
CATEGORIES:Cinéma
ATTACH;FMTTYPE=image/jpeg:https://www.ville-lunion.fr/wp-content/uploads/2017/02/buena-vida.jpg
END:VEVENT
END:VCALENDAR