BEGIN:VCALENDAR
VERSION:2.0
PRODID:-//Ville de L&#039;Union - ECPv6.15.13//NONSGML v1.0//EN
CALSCALE:GREGORIAN
METHOD:PUBLISH
X-WR-CALNAME:Ville de L&#039;Union
X-ORIGINAL-URL:https://www.ville-lunion.fr
X-WR-CALDESC:Évènements pour Ville de L&#039;Union
REFRESH-INTERVAL;VALUE=DURATION:PT1H
X-Robots-Tag:noindex
X-PUBLISHED-TTL:PT1H
BEGIN:VTIMEZONE
TZID:Europe/Paris
BEGIN:DAYLIGHT
TZOFFSETFROM:+0100
TZOFFSETTO:+0200
TZNAME:CEST
DTSTART:20160327T010000
END:DAYLIGHT
BEGIN:STANDARD
TZOFFSETFROM:+0200
TZOFFSETTO:+0100
TZNAME:CET
DTSTART:20161030T010000
END:STANDARD
BEGIN:DAYLIGHT
TZOFFSETFROM:+0100
TZOFFSETTO:+0200
TZNAME:CEST
DTSTART:20170326T010000
END:DAYLIGHT
BEGIN:STANDARD
TZOFFSETFROM:+0200
TZOFFSETTO:+0100
TZNAME:CET
DTSTART:20171029T010000
END:STANDARD
BEGIN:DAYLIGHT
TZOFFSETFROM:+0100
TZOFFSETTO:+0200
TZNAME:CEST
DTSTART:20180325T010000
END:DAYLIGHT
BEGIN:STANDARD
TZOFFSETFROM:+0200
TZOFFSETTO:+0100
TZNAME:CET
DTSTART:20181028T010000
END:STANDARD
END:VTIMEZONE
BEGIN:VEVENT
DTSTART;TZID=Europe/Paris:20170310T203000
DTEND;TZID=Europe/Paris:20170310T203000
DTSTAMP:20260424T165400
CREATED:20170104T112101Z
LAST-MODIFIED:20170228T150322Z
UID:31220-1489177800-1489177800@www.ville-lunion.fr
SUMMARY:Conférence Neptunion
DESCRIPTION:Seront abordés les thèmes suivants :  \n\nChangement climatique\nConstat\, projections et enjeux\nQuelles sont les évolutions climatiques récentes ?\nQuelles sont les projections de l’évolution du climat ?\nQuelle est la part de l’action de l’homme et celle de la variabilité climatique ? \n\navec M. David Salas y Melia\, Ingénieur – Climatologue au Centre National de Recherches Météorologiques de Toulouse (Météo-France / CNRS)\n& Amélie PROUST Chargée de communication au sein de la Direction de la Communication de CLS (Collecte Localisation Satellite\, filiale du CNES \n 
URL:https://www.ville-lunion.fr/evenement/conference-neptunion/
LOCATION:Salle des fêtes de L’Union\, 6 Avenue des Pyrénées\, L'Union\, 31240\, France
CATEGORIES:Associations
ATTACH;FMTTYPE=image/jpeg:https://www.ville-lunion.fr/wp-content/uploads/2017/01/climat.jpg
END:VEVENT
BEGIN:VEVENT
DTSTART;TZID=Europe/Paris:20170310T210000
DTEND;TZID=Europe/Paris:20170310T210000
DTSTAMP:20260424T165400
CREATED:20170307T091249Z
LAST-MODIFIED:20170307T091430Z
UID:31688-1489179600-1489179600@www.ville-lunion.fr
SUMMARY:Loto association un Maillot pour la Vie
DESCRIPTION:Loto un maillot pour la vie. \ndébut des partie 21h \nnombreux lots
URL:https://www.ville-lunion.fr/evenement/loto-association-maillot-vie/
LOCATION:Grande Halle de l’Union\, Rue du Somport\, L'Union\, 31240\, France
CATEGORIES:Associations
ATTACH;FMTTYPE=image/jpeg:https://www.ville-lunion.fr/wp-content/uploads/2017/03/LUNION.jpg
END:VEVENT
END:VCALENDAR