BEGIN:VCALENDAR
VERSION:2.0
PRODID:-//Ville de L&#039;Union - ECPv6.15.13//NONSGML v1.0//EN
CALSCALE:GREGORIAN
METHOD:PUBLISH
X-WR-CALNAME:Ville de L&#039;Union
X-ORIGINAL-URL:https://www.ville-lunion.fr
X-WR-CALDESC:Évènements pour Ville de L&#039;Union
REFRESH-INTERVAL;VALUE=DURATION:PT1H
X-Robots-Tag:noindex
X-PUBLISHED-TTL:PT1H
BEGIN:VTIMEZONE
TZID:Europe/Paris
BEGIN:DAYLIGHT
TZOFFSETFROM:+0100
TZOFFSETTO:+0200
TZNAME:CEST
DTSTART:20160327T010000
END:DAYLIGHT
BEGIN:STANDARD
TZOFFSETFROM:+0200
TZOFFSETTO:+0100
TZNAME:CET
DTSTART:20161030T010000
END:STANDARD
BEGIN:DAYLIGHT
TZOFFSETFROM:+0100
TZOFFSETTO:+0200
TZNAME:CEST
DTSTART:20170326T010000
END:DAYLIGHT
BEGIN:STANDARD
TZOFFSETFROM:+0200
TZOFFSETTO:+0100
TZNAME:CET
DTSTART:20171029T010000
END:STANDARD
BEGIN:DAYLIGHT
TZOFFSETFROM:+0100
TZOFFSETTO:+0200
TZNAME:CEST
DTSTART:20180325T010000
END:DAYLIGHT
BEGIN:STANDARD
TZOFFSETFROM:+0200
TZOFFSETTO:+0100
TZNAME:CET
DTSTART:20181028T010000
END:STANDARD
END:VTIMEZONE
BEGIN:VEVENT
DTSTART;TZID=Europe/Paris:20170126T183000
DTEND;TZID=Europe/Paris:20170211T183000
DTSTAMP:20260424T181824
CREATED:20161221T105413Z
LAST-MODIFIED:20161221T105539Z
UID:30938-1485455400-1486837800@www.ville-lunion.fr
SUMMARY:Exposition A.A.P.U
DESCRIPTION:AAPU organise une exposition à la bibliothèque « Plaisir de Lire » avec atelier : peinture chinoise\, calligraphie. Animation\, démonstrations par Mme LAO professeur le 28 janvier. \nVernissage le jeudi 26 janvier. \nEntrée Libre
URL:https://www.ville-lunion.fr/evenement/30938/
LOCATION:Bibliothèque de L’Union\, 6 Avenue de Toulouse\, 31240
CATEGORIES:Associations
ATTACH;FMTTYPE=image/jpeg:https://www.ville-lunion.fr/wp-content/uploads/2016/12/arton156.jpg
ORGANIZER;CN="A.A.P.U":MAILTO:arts.plastiques.lunion@gmail.com
END:VEVENT
BEGIN:VEVENT
DTSTART;TZID=Europe/Paris:20170202T100000
DTEND;TZID=Europe/Paris:20170202T120000
DTSTAMP:20260424T181824
CREATED:20161221T113626Z
LAST-MODIFIED:20161221T114517Z
UID:30972-1486029600-1486036800@www.ville-lunion.fr
SUMMARY:Conférence de l'A.A.P.U
DESCRIPTION:Conférence de l’A.A.P.U\, Histoire de l’Art sur « Qu’est ce que l’Art contemporain?» à l’auditorium\, salle des fêtes à 10h\, Ouvert à tous\, entrée 8 euros pour les non-inscrits à l’histoire de l’Art. Qu’est ce que l’Art contemporain? \n 
URL:https://www.ville-lunion.fr/evenement/conference-de-a-p-u/
LOCATION:Salle des fêtes de L’Union\, 6 Avenue des Pyrénées\, L'Union\, 31240\, France
CATEGORIES:Associations
ATTACH;FMTTYPE=image/jpeg:https://www.ville-lunion.fr/wp-content/uploads/2016/12/Art-contemporain.jpg
ORGANIZER;CN="A.A.P.U":MAILTO:arts.plastiques.lunion@gmail.com
END:VEVENT
BEGIN:VEVENT
DTSTART;TZID=Europe/Paris:20170202T203000
DTEND;TZID=Europe/Paris:20170202T203000
DTSTAMP:20260424T181824
CREATED:20170202T135840Z
LAST-MODIFIED:20170202T135840Z
UID:31416-1486067400-1486067400@www.ville-lunion.fr
SUMMARY:Concert de cuivres
DESCRIPTION:Honneur aux cuivres pour ce premier concert qui inaugurera une série de manifestations organisées par l’Ecole de Musique jusqu’au mois de juin. Vous allez pouvoir écouter\ndes oeuvres variées jouées par des ensembles qui ne se présentent pas souvent en public. La soirée sera l’occasion de découvrir les grands élèves de l’école en petite formation et des musiciens professionnels au cors d’harmonie. \nLe programme : Quatuor de tuba\, Quintette de cuivre\, Quatuor de cors d’Harmonie. \nEntrée gratuite
URL:https://www.ville-lunion.fr/evenement/concert-de-cuivres/
LOCATION:Salle des fêtes de L’Union\, 6 Avenue des Pyrénées\, L'Union\, 31240\, France
CATEGORIES:Associations
ATTACH;FMTTYPE=image/jpeg:https://www.ville-lunion.fr/wp-content/uploads/2017/02/cuivres-2-2.jpg
END:VEVENT
END:VCALENDAR